BEGIN:VCALENDAR
VERSION:2.0
PRODID:-//185.2.67.17//NONSGML kigkonsult.se iCalcreator 2.20//
CALSCALE:GREGORIAN
METHOD:PUBLISH
X-FROM-URL:http://www.lyitsu.ie/clubsandsocs
X-WR-TIMEZONE:Atlantic/Azores
BEGIN:VTIMEZONE
TZID:Atlantic/Azores
X-LIC-LOCATION:Atlantic/Azores
BEGIN:STANDARD
DTSTART:20171029T010000
TZOFFSETFROM:+0000
TZOFFSETTO:-0100
TZNAME:-01
END:STANDARD
BEGIN:DAYLIGHT
DTSTART:20180325T000000
TZOFFSETFROM:-0100
TZOFFSETTO:+0000
TZNAME:+00
END:DAYLIGHT
END:VTIMEZONE
BEGIN:VEVENT
UID:ai1ec-1617@www.lyitsu.ie/clubsandsocs
DTSTAMP:20171029T000627Z
CATEGORIES:
CONTACT:Alisha Burke\; l00119175@student.lyit.ie
DESCRIPTION:
DTSTART;TZID=Atlantic/Azores:20171030T163000
DTEND;TZID=Atlantic/Azores:20171030T183000
LOCATION:Hall\, An Dánlann
RRULE:FREQ=WEEKLY;BYDAY=MO,TU;WKST=MO
SEQUENCE:0
SUMMARY:Badminton Society
URL:http://www.lyitsu.ie/clubsandsocs/event/badminton-society-2/
END:VEVENT
BEGIN:VEVENT
UID:ai1ec-1614@www.lyitsu.ie/clubsandsocs
DTSTAMP:20171029T000627Z
CATEGORIES:
CONTACT:Paddy Gallagher\; paddy.gallagher@lyit.ie
DESCRIPTION:
DTSTART;TZID=Atlantic/Azores:20171030T173000
DTEND;TZID=Atlantic/Azores:20171030T191500
LOCATION:LYIT Pitch\, An Dánlann
RRULE:FREQ=WEEKLY;BYDAY=MO;WKST=MO
SEQUENCE:0
SUMMARY:Mens Soccer Training
URL:http://www.lyitsu.ie/clubsandsocs/event/mens-soccer-training/
END:VEVENT
BEGIN:VEVENT
UID:ai1ec-1653@www.lyitsu.ie/clubsandsocs
DTSTAMP:20171029T000627Z
CATEGORIES:
CONTACT:Eamon O'Boyle\; eamonoboyle@eircom.net
DESCRIPTION:
DTSTART;TZID=Atlantic/Azores:20171031T173000
DTEND;TZID=Atlantic/Azores:20171031T183000
LOCATION:LYIT Pitch\, An Dánlann
RRULE:FREQ=WEEKLY;BYDAY=TU;WKST=MO
SEQUENCE:0
SUMMARY:Ladies GAA Training
URL:http://www.lyitsu.ie/clubsandsocs/event/ladies-gaa-training/
END:VEVENT
BEGIN:VEVENT
UID:ai1ec-1662@www.lyitsu.ie/clubsandsocs
DTSTAMP:20171029T000627Z
CATEGORIES:
CONTACT:Mark McGearty\; l00117352@student.lyit.ie
DESCRIPTION:
DTSTART;TZID=Atlantic/Azores:20171031T180000
DTEND;TZID=Atlantic/Azores:20171031T200000
LOCATION:Room 2408\, LYIT Main Building
RRULE:FREQ=WEEKLY;BYDAY=TU;WKST=MO
SEQUENCE:0
SUMMARY:Pokémon Society
URL:http://www.lyitsu.ie/clubsandsocs/event/pokemon-society/
END:VEVENT
BEGIN:VEVENT
UID:ai1ec-1615@www.lyitsu.ie/clubsandsocs
DTSTAMP:20171029T000627Z
CATEGORIES:
CONTACT:Paddy Gallagher\; paddy.gallagher@lyit.ie
DESCRIPTION:
DTSTART;TZID=Atlantic/Azores:20171031T183000
DTEND;TZID=Atlantic/Azores:20171031T193000
LOCATION:LYIT Pitch\, An Dánlann
RRULE:FREQ=WEEKLY;BYDAY=TU;WKST=MO
SEQUENCE:0
SUMMARY:Men’s GAA Training
URL:http://www.lyitsu.ie/clubsandsocs/event/mens-gaa-training/
END:VEVENT
BEGIN:VEVENT
UID:ai1ec-1349@www.lyitsu.ie/clubsandsocs
DTSTAMP:20171029T000627Z
CATEGORIES:
CONTACT:Paul Lynch\; lyit-lgbt-society@live.ie
DESCRIPTION:
DTSTART;TZID=Atlantic/Azores:20171101T180000
DTEND;TZID=Atlantic/Azores:20171101T200000
LOCATION:LYIT Clubs and Societies Room\, An Danlann
RRULE:FREQ=WEEKLY
SEQUENCE:0
SUMMARY:LGBT Meeting – Clubs and Societies Room
URL:http://www.lyitsu.ie/clubsandsocs/event/lgbt-meeting-clubs-and-societie
 s-room/
END:VEVENT
BEGIN:VEVENT
UID:ai1ec-1650@www.lyitsu.ie/clubsandsocs
DTSTAMP:20171029T000627Z
CATEGORIES:
CONTACT:David Kerwin\; l00113095@student.lyit.ie
DESCRIPTION:
DTSTART;TZID=Atlantic/Azores:20171101T180000
DTEND;TZID=Atlantic/Azores:20171101T210000
LOCATION:An Dánlann
RRULE:FREQ=WEEKLY;BYDAY=WE;WKST=MO
SEQUENCE:0
SUMMARY:Music and Bands Society
URL:http://www.lyitsu.ie/clubsandsocs/event/music-and-bands-society/
END:VEVENT
BEGIN:VEVENT
UID:ai1ec-1668@www.lyitsu.ie/clubsandsocs
DTSTAMP:20171029T000627Z
CATEGORIES:
CONTACT:Stanley Nyadzayo \; l00113337@student.lyit.ie
DESCRIPTION:
DTSTART;TZID=Atlantic/Azores:20171101T183000
DTEND;TZID=Atlantic/Azores:20171101T203000
LOCATION:Room 2409\, LYIT Main Campus
RRULE:FREQ=WEEKLY;BYDAY=WE;WKST=MO
SEQUENCE:0
SUMMARY:Android App Society
URL:http://www.lyitsu.ie/clubsandsocs/event/android-app-society/
END:VEVENT
BEGIN:VEVENT
UID:ai1ec-1613@www.lyitsu.ie/clubsandsocs
DTSTAMP:20171029T000627Z
CATEGORIES:
CONTACT:Sarah McMenamin\; L00105786@student.lyit.ie
DESCRIPTION:
DTSTART;TZID=Atlantic/Azores:20171102T193000
DTEND;TZID=Atlantic/Azores:20171102T210000
RRULE:FREQ=WEEKLY;BYDAY=TH;WKST=MO
SEQUENCE:0
SUMMARY:Rock Climbing Society
URL:http://www.lyitsu.ie/clubsandsocs/event/rock-climbing-society/
END:VEVENT
END:VCALENDAR
